Workbook
Name A: #REF!
Name A: #REF!
Name A: #REF!
Name D: #REF!
Name f: #REF!
Name Hamburg: #REF!
Name Hamburg: euro_lcl!#REF!
Name Hamburg: #REF!
Name Hamburg: #REF!
Name INDIA: #REF!
Name INDIA: #REF!
Name INDIA: #REF!
Name LongBeach: #REF!
Name LongBeach: #REF!
Name LongBeach: #REF!
Name LongBeach: #REF!
Name LongBeach: #REF!
Name P2_Euro1: #REF!
Name P2_Euro2: #REF!
Name P2_Euro2: #REF!
Name P2_Euro2: #REF!
Name P2_Euro2: euro_lcl!#REF!
Name P2_Euro2: #REF!
Name P2_Euro3: #REF!
Name P2_Euro3: euro_lcl!#REF!
Name P2_Euro3: #REF!
Name P2_Euro3: #REF!
Name P2_Euro4: #REF!
Name P2_Euro4: #REF!
Name P2_Euro4: #REF!
Name P2_Euro4: #REF!
Name P2_Euro4: #REF!
Name P3_Usa1: #REF!
Name P3_Usa1: #REF!
Name P3_Usa1: #REF!
Name P3_Usa1: #REF!
Name P3_Usa1: #REF!
Name P3_Usa2: #REF!
Name P3_Usa2: #REF!
Name P3_Usa2: #REF!
Name P4_Usa3: #REF!
Name P4_Usa3: #REF!
Name P4_Usa3: #REF!
Name P5_Canada1: #REF!
Name P5_Canada1: #REF!
Name P5_Canada1: #REF!
Name P6_Hongkong: #REF!
Name P6_Hongkong: hkg!#REF!
Name P6_Hongkong: #REF!
Name P6_Keelung: #REF!
Name P6_Keelung: #REF!
Name P6_Keelung: #REF!
Name P6_Keelung: #REF!
Name P6_Keelung: #REF!
Name P6_Singapore: [1]sin_bkk!#REF!
Name P6_Singapore: [1]sin_bkk!#REF!
Name P6_Singapore: [2]sin_bkk!#REF!
Name P6_Singapore: [2]sin_bkk!#REF!
Name P6_Singapore: [3]sin_bkk!#REF!
Name P6_Singapore: [4]sin_bkk!#REF!

Sheet cover
A1: MITSUI-SOKO CO.,LTD.
M4: 46280
A6: WEEKLY CONSOLIDATION SERVICE
A7: << SAILING SCHEDULE >>
C9: 1. | D9: ヨーロッパ向け | L9: 1 | M9: Page
C10: 2. | D10: 北米・メキシコ・カナダ向け | L10: 2－3 | M10: Page
C11: 3. | D11: アジア向け | F11: SINGAPORE / BANGKOK | L11: 4 | M11: Page
F12: LAEM CHABANG | L12: 5 | M12: Page
F13: KEELUNG / SHANGHAI | L13: 6 | M13: Page
F14: HONG KONG | L14: 7 | M14: Page
F15: PORT KELANG / PENANG | L15: 8 | M15: Page
F16: BUSAN | L16: 9 | M16: Page
C17: 4． | D17: 連絡先・搬入先一覧 | L17: 10 | M17: Page
C18: 5． | D18: サーチャージ | L18: 11-13 | M18: Page
C19: 6． | D19: S/I作成時の注意事項 | L19: 14 | M19: Page
B22: 【お知らせ】
F25: ★ 2026年11月号の配信:10/26(月）頃を予定しております。
C26: ◎スケジュールに記載されている本船・仕向地以外のサービスもございます。詳しくは弊社担当までお問い合わせ下さい。

Sheet euro_lcl
B1: EUROPE
T2: =cover!M4 -> 46280
B4: LCL SERVICE from TOKYO
B6: VESSEL / VOY.NO. | D6: TOKYO/YOKOHAMA | G6: ROTTERDAM | J6: SOUTHAMPTON | M6: HAMBURG | P6: LE HAVRE
D7: TOKYO CFS CUT | E7: ETA | F7: ETD
B8: ADDISON | C8: 070W | D8: 46293 | E8: 46296 | F8: 46298 | H8: 46340 | N8: 46347 | Q8: 46353
B9: CMA CGM TANYA | C9: 0R11IW1MA | D9: 46293 | E9: 46299 | F9: 46300 | K9: 46337
B10: ARICA BRIDGE | C10: 292W | D10: =D8+7 -> 46300 | E10: =E8+7 -> 46303 | F10: =F8+7 -> 46305 | H10: =H8+7 -> 46347 | N10: =N8+7 -> 46354 | Q10: =Q8+7 -> 46360
B11: CMA CGM MEKONG | C11: 0R10OW1MA | D11: =D9+7 -> 46300 | E11: =E9+7 -> 46306 | F11: =F9+7 -> 46307 | K11: =K9+7 -> 46344
B12: IRENES RALLY | C12: 024W | D12: =D10+7-3 -> 46304 | E12: =E10+7 -> 46310 | F12: =F10+7 -> 46312 | H12: =H10+7 -> 46354 | N12: =N10+7 -> 46361 | Q12: =Q10+7 -> 46367
B13: CMA CGM RODOLPHE | C13: 0R11KW1MA | D13: =D11+7-3 -> 46304 | E13: =E11+7 -> 46313 | F13: =F11+7 -> 46314 | K13: =K11+7 -> 46351
B14: ADDISON | C14: 072W | D14: =D12+7+3 -> 46314 | E14: =E12+7 -> 46317 | F14: =F12+7 -> 46319 | H14: =H12+7 -> 46361 | N14: =N12+7 -> 46368 | Q14: =Q12+7 -> 46374
B15: TBA | D15: =D13+7+3 -> 46314 | E15: =E13+7 -> 46320 | F15: =F13+7 -> 46321 | K15: =K13+7 -> 46358
B16: ARICA BRIDGE | C16: 294W | D16: =D14+7 -> 46321 | E16: =E14+7 -> 46324 | F16: =F14+7 -> 46326 | H16: =H14+7 -> 46368 | N16: =N14+7 -> 46375 | Q16: =Q14+7 -> 46381
B18: ☆ CUT日が早くなっておりますのでご注意下さい。
B19: 注） 欧州向け、NON HAZ CHEMICAL などの商品につきましては、MSDSの提示をお願いする場合がございますので、御理解・ご協力のほどよろしくお願いします。
B20: ◎ヨーロッパ向け24時間ルール ( ENS : Entry Summary Declaration ) の運用が開始されました。必要情報のご提供、CFS CUTの前倒しご協力お願いします。
B21: 搬入先CFS | C21: CFS名称 | K21: NACCS | N21: 住所 | T21: TEL | W21: FAX
B22: TOKYO | C22: ㈱宇徳 東京フレートセンター | K22: 1FWC7 | N22: 東京都品川区八潮2-8-1 | T22: 03-3790-1241 | W22: 03-3790-0803
B25: LCL SERVICE from KOBE and OSAKA
B27: 欧州 | D27: CFS CUT | F27: KOBE | H27: RTM | I27: ANR | J27: HAM | K27: SOU | L27: LEH | N27: 【欧州向／大阪CFS】
B28: NAME OF VESSEL | D28: OSAKA | E28: KOBE | F28: ETA | G28: ETD | H28: ETA | I28: ETA | J28: ETA | K28: ETA | L28: ETA | N28: 山九(株) 南港物流グループ 大阪港総合流通センター係
B29: ADDISON | C29: 069W | D29: 46280 | E29: =IF($E29="","",$E29) -> 46280 | F29: 46287 | G29: =F29+1 -> 46288 | H29: =G29+45 -> 46333 | I29: =H29+5 -> 46338 | J29: =H29+3+1+3 -> 46340 | L29: =H29+7+6 -> 46346 | N29: 大阪市住之江区南港中7-3-109
B30: NAVIOS VERDE | C30: 187S | D30: 46279 | E30: =IF($E30="","",$E30) -> 46279 | F30: =IF(D30="","",D30+3-1) -> 46281 | G30: =IF(E30="","",F30+1+1) -> 46283 | K30: =IF(E30="","",E30+47+7) -> 46333 | N30: TEL：06-6614-3911／FAX：06-6614-4974
E31: =IF($E31="","",$E31) | N31: 保税コード：4IWB8
B32: ARICA BRIDGE | C32: 291W | D32: 46290 | E32: =IF($E32="","",$E32) -> 46290 | F32: 46294 | G32: =F32+1 -> 46295 | H32: =G32+42+3 -> 46340 | I32: =H32+5 -> 46345 | J32: =H32+3+4 -> 46347 | L32: =H32+7+6 -> 46353
B33: NO SERVICE | E33: =IF($E33="","",$E33) | F33: =IF(D33="","",D33+3-1) | G33: =IF(E33="","",F33+1+1) | K33: =IF(E33="","",E33+47+7) | N33: 【欧州向／神戸CFS】
E34: =IF($E34="","",$E34) | N34: （株）ユニエックス 六甲アイランド CFS保税蔵地場
B35: IRENES RALLY | C35: 023W | D35: 46297 | E35: =IF($E35="","",$E35) -> 46297 | F35: 46301 | G35: =F35+1 -> 46302 | H35: =G35+42+3 -> 46347 | I35: =H35+5 -> 46352 | J35: =H35+3+4 -> 46354 | L35: =H35+7+6 -> 46360 | N35: 神戸市東灘区向洋町東4-15
B36: NO SERVICE | E36: =IF($E36="","",$E36) | F36: =IF(D36="","",D36+3-1) | G36: =IF(E36="","",F36+1+1) | K36: =IF(E36="","",E36+47+7) | N36: TEL：078－857－7190／FAX：078－857－7187
E37: =IF($E37="","",$E37) | N37: 保税コード：3GW51
B38: ADDISON | C38: 071W | D38: 46303 | E38: =IF($E38="","",$E38) -> 46303 | F38: 46308 | G38: =F38+1 -> 46309 | H38: =G38+42+3 -> 46354 | I38: =H38+5 -> 46359 | J38: =H38+3+4 -> 46361 | L38: =H38+7+6 -> 46367
B39: NAVIOS CHRYSALIS | C39: 018S | D39: 46300 | E39: =IF($E39="","",$E39) -> 46300 | F39: =IF(D39="","",D39+3-1) -> 46302 | G39: =IF(E39="","",F39+1+1) -> 46304 | K39: =IF(E39="","",E39+47+7) -> 46354 | N39: 【BOOKING窓口】
E40: =IF($E40="","",$E40) | N40: 三井倉庫九州（株）オペレーションセンター
B41: ARICA BRIDGE | C41: 293W | D41: 46311 | E41: =IF($E41="","",$E41) -> 46311 | F41: 46315 | G41: =F41+1 -> 46316 | H41: =G41+42+3 -> 46361 | I41: =H41+5 -> 46366 | J41: =H41+3+4 -> 46368 | L41: =H41+7+6 -> 46374 | N41: TEL：093-288-5071／FAX：093-280-2231
B42: NAVIOS VERDE | C42: 188S | D42: 46304 | E42: =IF($E42="","",$E42) -> 46304 | F42: =IF(D42="","",D42+3+2) -> 46309 | G42: =IF(E42="","",F42+1+1) -> 46311 | K42: =IF(E42="","",E42+47+10) -> 46361 | O42: 担当：濱・早瀬・西岡
E43: =IF($E43="","",$E43)
B44: 喜望峰経由前提でのスケジュールとなります。
B45: ☆BOOKING締め切りは CFS CUT前日とさせていただきます。
B48: ＊上記以外の地域でもお受けできます。 | D48: VIA RTD：オランダ

Sheet usa_lcl
B1: USA
Y3: =cover!M4 -> 46280
B4: LCL CONSOLIDATION SERVICE from JAPAN
B7: VESSEL / VOY.NO. | D7: OSAKA | G7: KOBE | J7: NAGOYA | M7: TOKYO | P7: LOS ANGELES | S7: EL PASO | V7: CHICAGO | Y7: ATLANTA | AB7: NEW YORK | AE7: LOS ANGELES 経由米国内陸CFS向け
B10: ONE READINESS | H10: 46291 | I10: =H10+1 -> 46292 | K10: 46294 | L10: =K10+1 -> 46295 | N10: 46296 | O10: =N10+1 -> 46297 | Q10: 46281 | T10: =Q10+8 -> 46289 | W10: =Q10+13 -> 46294 | Z10: =Q10+15 -> 46296 | AC10: =Q10+14 -> 46295 | AE10: 2014年7月日本出港本船よりLOS ANGELES CFS到着以降、下記全米73CFS
B11: 014E | C11: CFS CUT | E11: =H11 -> 46280 | H11: 46280 | K11: 46281 | N11: 46289 | AE11: へのサービスが可能となります。引き続きドアデリバリーサービスも承ります
B12: NAVIOS CYAN | H12: =H10+7 -> 46298 | I12: =I10+7 -> 46299 | K12: =K10+7 -> 46301 | L12: =L10+7 -> 46302 | N12: =N10+7 -> 46303 | O12: =O10+7 -> 46304 | Q12: =Q10+7 -> 46288 | T12: =T10+7+7 -> 46303 | W12: =W10+7+7 -> 46308 | Z12: =Z10+7+7 -> 46310 | AC12: =AC10+7+7 -> 46309 | AE12: ので、弊社営業担当へお気軽にお問い合わせください。
B13: 004E | C13: CFS CUT | E13: =H13 -> 46282 | H13: =H11+7-5 -> 46282 | K13: =K11+7+5 -> 46293 | N13: =N11+7 -> 46296
B14: MOL PROFICIENCY | H14: =H12+7 -> 46305 | I14: =I12+7 -> 46306 | K14: =K12+7 -> 46308 | L14: =L12+7 -> 46309 | N14: =N12+7 -> 46310 | O14: =O12+7 -> 46311 | Q14: =Q12+7 -> 46295 | T14: =T12+7 -> 46310 | W14: =W12+7 -> 46315 | Z14: =Z12+7 -> 46317 | AC14: =AC12+7 -> 46316 | AE14: GROUP A | AF14: LA + 8 | AG14: San Francisco
B15: 257E | C15: CFS CUT | E15: =H15 -> 46294 | H15: =H13+7+5 -> 46294 | K15: =K13+7 -> 46300 | N15: =N13+7-1 -> 46302 | AE15: GROUP B | AF15: LA + 10 | AG15: Laredo
B16: ONE MATRIX | H16: =H14+7 -> 46312 | I16: =I14+7 -> 46313 | K16: =K14+7 -> 46315 | L16: =L14+7 -> 46316 | N16: =N14+7 -> 46317 | O16: =O14+7 -> 46318 | Q16: =Q14+7 -> 46302 | T16: =T14+7 -> 46317 | W16: =W14+7 -> 46322 | Z16: =Z14+7 -> 46324 | AC16: =AC14+7 -> 46323 | AE16: GROUP C | AF16: LA + 11 | AG16: Portland San Diego Seattle
B17: 188E | C17: CFS CUT | E17: =H17 -> 46301 | H17: =H15+7 -> 46301 | K17: =K15+7-3 -> 46304 | N17: =N15+7+1 -> 46310 | AE17: GROUP D | AF17: LA + 12 | AG17: Denver Las Vegas Salt Lake City
B18: ONE REASSURANCE | H18: =H16+7 -> 46319 | I18: =I16+7 -> 46320 | K18: =K16+7 -> 46322 | L18: =L16+7 -> 46323 | N18: =N16+7 -> 46324 | O18: =O16+7 -> 46325 | Q18: =Q16+7 -> 46309 | T18: =T16+7 -> 46324 | W18: =W16+7 -> 46329 | Z18: =Z16+7 -> 46331 | AC18: =AC16+7 -> 46330 | AE18: GROUP E | AF18: LA + 13 | AG18: Dallas Houston
B19: 258E | C19: CFS CUT | E19: =E17+7 -> 46308 | H19: =H17+7 -> 46308 | K19: =K17+7+3 -> 46314 | N19: =N17+7 -> 46317 | AE19: GROUP F | AF19: LA + 14 | AG19: Nogales Phoenix Tucson
AE20: GROUP G | AF20: LA + 15 | AG20: Albuquerque Brownsville Des Moines
C21: CFS CUT | AG21: Grand Rapids Hidalgo Milwaukee Mobile
AG22: Springfield Wichita
C23: CFS CUT | AE23: GROUP H | AF23: LA + 16 | AG23: Baltimore Birmingham Boston Huntsville
AG24: Norfolk Philadelphia Pittsburgh Toledo
C25: CFS CUT | AG25: Washington DC
AG26: Springfield Wichita
AE27: GROUP H | AF27: LA + 16 | AG27: Baltimore Birmingham Boston Huntsville
AG28: Norfolk Philadelphia Pittsburgh Toledo
AG29: Washington DC
B30: ☆カット日が早まっておりますので、ご注意下さい。 | P30: LAX = LOS ANGELES | AE30: GROUP I | AF30: LA + 17 | AG30: Buffalo Chattanooga Greensboro Knoxville
B31: (*1)2014年7月出港本船以降、サービス改編に伴い、内陸スケジュールについては変更になっております。 | AG31: New Orleans Richmond Rochester
B32: (*2)神戸の搬入先CFSが変更になっております。ご注意ください。（東京は変更ございません） | AG32: San Antonio Savannah Shreveport Syracuse
B33: (*3) 名古屋発本船サービス改編によりCFS CUT 出港日が早まりました。 | AE33: GROUP J | AF33: LA + 18 | AG33: Cincinatti Cleveland Columbus Detroit
B34: サービス改編によりLONG BEACH着の本船は無くなりました。 ※2020.10月1日以降搬入分より名古屋の倉庫が変更となりました。 | AG34: Kansas City Omaha St. Louis Wilmington
B35: 重要） ISF(IMPORT SECURITY FILING) / 10+2ルールが、2010年1月26日から本格稼動となりました。輸入者様と十分お打ち合わせの上、準備、ご対応のほどよろしくお願いします。 | AE35: GROUP K | AF35: LA + 19 | AG35: Austin Little Rock Louisville
AG36: Minneapolis Oklahoma City
AE37: GROUP L | AF37: LA + 20 | AG37: Charleston Charlotte Memphis
AG38: Nashville Raleigh Tampa
AE39: GROUP L | AF39: LA + 21 | AG39: Miami
AE40: GROUP M | AF40: LA + 22 | AG40: Orlando

Sheet canada
B1: CANADA
V2: =cover!M4 -> 46280
B4: LCL SERVICES from JAPAN
B6: VESSEL / VOY.NO. | D6: KOBE | G6: OSAKA | J6: NAGOYA | M6: YOKOHAMA | P6: TOKYO | S6: VANCOUVER | V6: TORONTO | Y6: MONTREAL
B7: YM COSMOS | Q7: 46299 | S7: 46315
B8: 192E | C8: CFS CUT | Q8: 46294
B9: YM PLUM | Q9: =Q7+7 -> 46306 | S9: =S7+7 -> 46322
B10: 197E | C10: CFS CUT | Q10: =Q8+7 -> 46301
B11: ONE MAJESTY | Q11: =Q9+7 -> 46313 | S11: =S9+7 -> 46329
B12: 026E | C12: CFS CUT | Q12: =Q10+7 -> 46308
B13: CORNEILLE | Q13: =Q11+7 -> 46320 | S13: =S11+7 -> 46336
B14: 014E | C14: CFS CUT | Q14: =Q12+7 -> 46315
C16: CFS CUT
B21: 注） VANCOUVER 港の状況により、内陸向けの到着に遅れが生じる場合がございますので、ご了承ください。
B22: (*1) TORONTO, MONTREAL向けのT/Tに変更がございます。
B23: ☆カット日が早まっておりますので、ご注意下さい。
B25: ＜お知らせ＞カナダ向けLCLサービス改編により内陸トランジットタイムが変更となっております。
B26: ＜重要＞カナダ向け24時間ルールに関し、B/L上、CONSIGNEE/NOTIFYのPOSTAL CODE(ZIP CODE)のデーター提出が必須となりましたので、必ずご連絡いただけますようお願い致します。

Sheet sin_bkk
B1: SINGAPORE
S2: =cover!M4 -> 46280
B4: LCL CONSOLIDATION SERVICE
B6: VESSEL | C6: VOY.NO. | D6: KOBE | J6: NAGOYA ◆ | P6: TOKYO | V6: SINGAPORE
D7: CFS CUT | G7: ETD | J7: CFS CUT | M7: ETD | P7: CFS CUT | S7: ETD
B8: MOL ENDOWMENT | C8: 106S | Q8: 46296 | T8: 46299 | W8: 46310
B9: OOCL ZHOUSHAN | C9: 299S | E9: 46294 | F9: AM | H9: 46296 | W9: 46305
B10: NAGOYA TOWER | C10: 033S | Q10: =Q8+7 -> 46303 | T10: =T8+7 -> 46306 | W10: =W8+7 -> 46317
B11: OOCL NEW ZEALAND | C11: 171S | E11: =E9+7 -> 46301 | F11: AM | H11: =H9+7 -> 46303 | W11: =W9+7 -> 46312
B12: BEAR MOUNTAIN BRIDGE | C12: 139S | Q12: =Q10+7 -> 46310 | T12: =T10+7 -> 46313 | W12: =W10+7 -> 46324
B13: PHEN BASIN | C13: 134S | E13: =E11+7 -> 46308 | F13: AM | H13: =H11+7 -> 46310 | W13: =W11+7 -> 46319
B14: SPIL KARTINI | C14: 020S | Q14: =Q12+7 -> 46317 | T14: =T12+7 -> 46320 | W14: =W12+7 -> 46331
B15: VANCOUVER | C15: 060S | E15: =E13+7 -> 46315 | F15: AM | H15: =H13+7 -> 46317 | W15: =W13+7 -> 46326
B19: ◆ 名古屋からのサービスにつきましては、別途お問い合わせください。
B21: BANGKOK
B23: LCL CONSOLIDATION SERVICE
B25: VESSEL | C25: VOY.NO. | D25: KOBE | J25: NAGOYA | P25: TOKYO | V25: BANGKOK
D26: CFS CUT | G26: ETD | J26: CFS CUT | M26: ETD | P26: CFS CUT | S26: ETD
B27: YM IMMENSE | C27: 411S | P27: 46294 | S27: 46296 | V27: 46309
B28: YM IMMENSE | C28: 411S | D28: 46296 | F28: AM | H28: 46299 | W28: 46309
B29: HORAI BRIDGE | C29: 229S | Q29: =P27+7 -> 46301 | T29: =S27+7 -> 46303 | W29: =V27+7 -> 46316
B30: HORAI BRIDGE | C30: 229S | D30: =D28+7 -> 46303 | F30: AM | H30: =H28+7 -> 46306 | W30: =W28+7 -> 46316
B31: YM IMPROVEMENT | C31: 279S | Q31: =Q29+7 -> 46308 | T31: =T29+7 -> 46310 | W31: =W29+7 -> 46323
B32: YM IMPROVEMENT | C32: 279S | D32: =D30+7 -> 46310 | F32: AM | H32: =H30+7 -> 46313 | W32: =W30+7 -> 46323
B33: YM INCEPTION | C33: 252S | Q33: =Q31+7 -> 46315 | T33: =T31+7 -> 46317 | W33: =W31+7 -> 46330
B34: YM INCEPTION | C34: 251S | D34: =D32+7 -> 46317 | F34: AM | H34: =H32+7 -> 46320 | W34: =W32+7 -> 46330
B35: YM IMMENSE | C35: 412S | Q35: =Q33+7 -> 46322 | T35: =T33+7 -> 46324 | W35: =W33+7 -> 46337

Sheet lcb
B1: LAEM CHABANG
H2: =cover!M4 -> 46280
B3: MAY. 2025
B4: 神戸積
B5: MITSUI SOKO SCM SERVICE
B6: SAILING SCHEDULE
N7: 44896 | O7: 44905
C8: WK | D8: 船社 | E8: 船名 | G8: CFS CUT | I8: ETD KOBE | K8: ETA LAEM CHABANG | N8: 44903 | O8: 44912
C9: 18 | D9: ONE | E9: HMM INTEGRAL | F9: 0001W | G9: 46140 | H9: =IF($F9="","",$F9) -> 0001W | I9: 46144 | J9: =IF($H9="","",$H9) -> 0001W | K9: 46154 | L9: =IF($J9="","",$J9) -> 0001W | N9: 44903 | O9: 44912
C10: 19 | D10: =IF($D10="","","ONE") -> ONE | E10: MOL EXPERIENCE | F10: 0103W | G10: 46143 | H10: =IF($F10="","",$F10) -> 0103W | I10: 46151 | J10: =IF($H10="","",$H10) -> 0103W | K10: 46161 | L10: =IF($J10="","",$J10) -> 0103W | N10: 44910 | O10: 44919
C11: 20 | D11: =IF($D11="","","ONE") -> ONE | E11: NYK FUTAGO | F11: 0107W | G11: 46155 | H11: =IF($F11="","",$F11) -> 0107W | I11: 46158 | J11: =IF($H11="","",$H11) -> 0107W | K11: 46168 | L11: =IF($J11="","",$J11) -> 0107W
C12: 21 | D12: =IF($D12="","","ONE") -> ONE | E12: NYK CONSTELLATION | F12: 0111W | G12: 46162 | H12: =IF($F12="","",$F12) -> 0111W | I12: 46165 | J12: =IF($H12="","",$H12) -> 0111W | K12: 46175 | L12: =IF($J12="","",$J12) -> 0111W
C13: 22 | D13: ONE | E13: TBA | G13: 46169 | H13: =IF($F13="","",$F13) | I13: 46172 | J13: =IF($H13="","",$H13) | K13: 46182 | L13: =IF($J13="","",$J13)
J14: =IF($H14="","",$H14)
C15: ☆ BOOKING締め切りは CFS CUT前日とさせていただきます。
C18: 【BOOKING窓口】 | E18: 三井倉庫九州（株）オペレーションセンター
E19: 担当：伊美・濱・戸高 | G19: TEL：093-288-5071／FAX：093-280-2231
E20: ブッキング受付：kyushunvoexp@mitsui-soko.co.jp
C22: 【神戸CFS】 | E22: 三井倉庫（株）関西支社 ポートアイランド事務所 K-DIC倉庫
E23: 〒650-0045 兵庫県神戸市中央区港島8-2-1
E24: 担当：伊澤 TEL：078-306-2635／FAX：078-306-2636
E25: 保税地域コード：3FW42

Sheet kee_sha
B1: KEELUNG
S2: =cover!M4 -> 46280
B4: LCL CONSOLIDATION SERVICE
B6: VESSEL | C6: VOY.NO. | D6: KOBE | J6: NAGOYA ◆ | P6: TOKYO | V6: KEELUNG
D7: CFS CUT | G7: ETD | J7: CFS CUT | M7: ETD | P7: TOKYO CFS CUT | S7: YOKOHAMA ETD
B8: YM IMMENSE | C8: 411S | Q8: 46294 | T8: 46297 | W8: 46302
B9: TS KOBE | C9: 2620S | E9: 46295 | F9: AM | H9: 46297 | W9: 46301
B10: HORAI BRIDGE | C10: 229S | Q10: =Q8+7 -> 46301 | T10: =T8+7 -> 46304 | W10: =W8+7 -> 46309
B11: TS INCHEON | C11: 2620S | E11: =E9+7 -> 46302 | F11: AM | H11: =H9+7 -> 46304 | W11: =W9+7 -> 46308
B12: YM IMPROVEMENT | C12: 279S | Q12: =Q10+7 -> 46308 | T12: =T10+7 -> 46311 | W12: =W10+7 -> 46316
B13: TS KOBE | C13: 2621S | E13: =E11+7 -> 46309 | F13: AM | H13: =H11+7 -> 46311 | W13: =W11+7 -> 46315
B14: YM INCEPTION | C14: 252S | Q14: =Q12+7 -> 46315 | T14: =T12+7 -> 46318 | W14: =W12+7 -> 46323
B15: TS INCHEON | C15: 2621S | E15: =E13+7 -> 46316 | F15: AM | H15: =H13+7 -> 46318 | W15: =W13+7 -> 46322
B18: << PLACE OF RECEIPT : TOKYO / LOADING PORT : YOKOHAMA >>
B20: ◆ 名古屋からのサービスにつきましては、別途お問い合わせください。
B21: SHANGHAI
B23: LCL CONSOLIDATION SERVICE from TOKYO
B25: VESSEL NAME | C25: VOY.NO. | D25: TOKYO | J25: SHANGHAI
D26: CUT OFF | G26: ETD
B27: MILD PEONY | C27: 2640S | E27: 46294 | H27: 46296 | K27: 46300
B28: MILD JASMINE | C28: 2641S | E28: =E27+7 -> 46301 | H28: =H27+7 -> 46303 | K28: =K27+7 -> 46307
B29: MILD ROSE | C29: 2642S | E29: =E28+7 -> 46308 | H29: =H28+7 -> 46310 | K29: =K28+7 -> 46314
B30: MILD ORCHID | C30: 2643S | E30: =E29+7 -> 46315 | H30: =H29+7 -> 46317 | K30: =K29+7 -> 46321
B31: MILD PEONY | C31: 2644S | E31: =E30+7 -> 46322 | H31: =H30+7 -> 46324 | K31: =K30+7 -> 46328
B33: 注） 東京 − 上海ですが、場合によって東京受け、横浜出港とさせていただく場合があります。

Sheet hkg
B1: HONG KONG
S2: =cover!M4 -> 46280
B4: LCL CONSOLIDATION SERVICE
B6: VESSEL | C6: VOY.NO. | D6: KOBE | J6: NAGOYA | P6: TOKYO | V6: HONGKONG
D7: CFS CUT | G7: ETD | J7: CFS CUT | M7: ETD | P7: CFS CUT | S7: ETD
B8: EMMANUEL P | C8: 014S | D8: 46293 | F8: AM | G8: 46297 | V8: 46301
B9: WAN HAI 335 | C9: S018 | D9: 46296 | F9: AM | G9: 46299 | V9: 46303
B10: INTERASIA TENACITY | C10: S025 | Q10: 46296 | T10: 46299 | W10: 46303
B11: NAVIOS CHRYSALS | C11: 018S | D11: =D8+7 -> 46300 | F11: AM | G11: =G8+7 -> 46304 | V11: =V8+7 -> 46308
B12: WAN HAI 357 | C12: S040 | D12: =D9+7 -> 46303 | F12: AM | G12: =G9+7 -> 46306 | V12: =V9+7 -> 46310
B13: WAN HAI 368 | C13: S041 | Q13: =Q10+7 -> 46303 | T13: =T10+7 -> 46306 | W13: =W10+7 -> 46310
B14: NAVOS VERDE | C14: 188S | D14: =D11+7-3 -> 46304 | F14: AM | G14: =G11+7 -> 46311 | V14: =V11+7 -> 46315
B15: INTERASIA TRANSFORM | C15: S026 | D15: =D12+7 -> 46310 | F15: AM | G15: =G12+7 -> 46313 | V15: =V12+7 -> 46317
B16: WAN HAI 370 | C16: S033 | Q16: =Q13+7 -> 46310 | T16: =T13+7 -> 46313 | W16: =W13+7 -> 46317
B17: ATHENS BRIDGE | C17: 1190S | D17: =D14+4+3+3 -> 46314 | F17: AM | G17: =G14+7 -> 46318 | V17: =V14+7 -> 46322
B18: WAN HAI 356 | C18: S046 | D18: =D15+7 -> 46317 | F18: AM | G18: =G15+7 -> 46320 | V18: =V15+7 -> 46324
B19: WAN HAI 358 | C19: S036 | Q19: =Q16+7 -> 46317 | T19: =T16+7 -> 46320 | W19: =W16+7 -> 46324
B20: EMMANUEL P | C20: 015S | D20: =D17+7 -> 46321 | F20: AM | G20: =G17+7 -> 46325 | V20: =V18+7-2 -> 46329
B22: ☆カット日が早くなっています。ご注意下さい。
B23: ◆ 名古屋からのサービスにつきましては、別途お問い合わせください。

Sheet pkg_pen
B1: PORT KELANG & PENANG
V2: =cover!M4 -> 46280
B4: LCL CONSOLIDATION SERVICE
B6: VESSEL | C6: VOY.NO. | D6: KOBE | J6: NAGOYA ◆ | P6: TOKYO | V6: PORT KELANG | Y6: ※ PENANG
D7: CFS CUT | G7: ETD | J7: CFS CUT | M7: ETD | P7: CFS CUT | S7: ETD
B8: INTERASIA TENACITY | C8: S025 | Q8: 46296 | S8: 横 | T8: 46298 | W8: 46309 | Z8: 46315
B9: WAN HAI 335 | C9: S018 | E9: 46296 | F9: AM | H9: 46299 | W9: 46309 | Z9: 46317
B10: WAN HAI 353 | C10: S050 | Q10: =Q8+7 -> 46303 | S10: 横 | T10: =T8+7 -> 46305 | W10: =W8+7 -> 46316 | Z10: =Z8+7 -> 46322
B11: WAN HAI 357 | C11: S040 | E11: =E9+7 -> 46303 | F11: AM | H11: =H9+7 -> 46306 | W11: =W9+7 -> 46316 | Z11: =Z9+7 -> 46324
B12: WAN HAI 368 | C12: S041 | Q12: =Q10+7 -> 46310 | S12: 横 | T12: =T10+7 -> 46312 | W12: =W10+7 -> 46323 | Z12: =Z10+7 -> 46329
B13: INTERASIA TRANSFORM | C13: S026 | E13: =E11+7 -> 46310 | F13: AM | H13: =H11+7 -> 46313 | W13: =W11+7 -> 46323 | Z13: =Z11+7 -> 46331
B14: WAN HAI 370 | C14: S033 | Q14: =Q12+7 -> 46317 | S14: 横 | T14: =T12+7 -> 46319 | W14: =W12+7 -> 46330 | Z14: =Z12+7 -> 46336
B15: WAN HAI 356 | C15: S046 | E15: =E13+7 -> 46317 | F15: AM | H15: =H13+7 -> 46320 | W15: =W13+7 -> 46330 | Z15: =Z13+7 -> 46338
B16: INTERASIA TENACITY | C16: S026 | Q16: =Q14+7 -> 46324 | S16: 横 | T16: =T14+7 -> 46326 | W16: =W14+7 -> 46337 | Z16: =Z14+7 -> 46343
B19: ☆カット日が早くなっています。ご注意下さい。
B20: ◇東京-ポートケラン、東京ＣＦＳ受け、横浜出港のサービスとなります（出港日は横浜の日付となっております）。<< PLACE OF RECEIPT : TOKYO / LOADING PORT : YOKOHAMA >>
B21: ※東京−ペナンは、PORT KELANGでリコンソリサービスとなります。
B22: ◆名古屋からのサービスにつきましては、別途お問い合わせください。

Sheet bus 
A1: BUSAN
N2: =cover!M4 -> 46280
B4: LCL CONSOLIDATION SERVICE from TOKYO
C5: VESSEL | D5: VOY.NO. | E5: TOKYO | K5: BUSAN
E6: CFS CUT | H6: ETD
C7: DONGJIN FORTUNE | D7: 0203N | F7: 46295 | H7: 横 | I7: 46297 | L7: 46300
C8: DONGJIN FORTUNE | D8: 0204N | F8: =F7+7 -> 46302 | H8: 横 | I8: =I7+7 -> 46304 | L8: =L7+7 -> 46307
C9: DONGJIN FORTUNE | D9: 0205N | F9: =F8+7 -> 46309 | H9: 横 | I9: =I8+7 -> 46311 | L9: =L8+7 -> 46314
C10: DONGJIN FORTUNE | D10: 0206N | F10: =F9+7 -> 46316 | H10: 横 | I10: =I9+7 -> 46318 | L10: =L9+7 -> 46321
C11: DONGJIN FORTUNE | D11: 0207N | F11: =F10+7+2 -> 46325 | H11: 横 | I11: =I10+7 -> 46325 | L11: =L10+7 -> 46328
C12: ☆カット日が早くなっています。ご注意下さい。
B16: LCL CONSOLIDATION SERVICE from KOBE
C18: VESSEL | D18: VOY.NO. | E18: KOBE | K18: BUSAN
E19: CFS CUT | H19: ETD
C20: HONOR OCEAN | D20: 2610W | F20: 46282 | G20: AM | I20: 46286 | L20: 46288
C21: SKIP(本船無し) | D21: 2642W | F21: 46286 | G21: AM | I21: 46288 | L21: 46291
C22: SKIP(本船無し) | D22: 2611W | F22: 46288 | G22: AM | I22: 46290 | L22: 46293
C23: HONOR GLORY | D23: 2643W | F23: 46289 | G23: AM | I23: 46293 | L23: 46295
C24: HONOR OCEAN | D24: 2612W | F24: 46293 | G24: AM | I24: 46295 | L24: 46298
C25: HONOR GLORY | D25: 2644W | F25: 46295 | G25: AM | I25: 46297 | L25: 46300
C26: HONOR OCEAN | D26: 2613W | F26: 46296 | G26: AM | I26: 46300 | L26: 46302
C27: HONOR GLORY | D27: 2645W | F27: 46300 | G27: AM | I27: 46302 | L27: 46305
C28: HONOR OCEAN | D28: 2614W | F28: 46302 | G28: AM | I28: 46304 | L28: 46307
C29: HONOR GLORY | D29: 2646W | F29: 46303 | G29: AM | I29: 46307 | L29: 46309
C30: HONOR OCEAN | D30: 2615W | F30: 46304 | G30: AM | I30: 46309 | L30: 46312
C31: HONOR GLORY | D31: 2647W | F31: 46309 | G31: AM | I31: 46311 | L31: 46314

Sheet Contact_CFS  
A1: Booking 窓口・CFS 一覧
E3: 45308
A6: JAPAN PORT | C6: OFFICE AND CFS FACILITY | D6: 担当 | E6: ●保税名称 | F6: TEL & FAX
E7: ○ナックスコード
B8: Booking | C8: 三井倉庫九州（株） 営業部 /オペレーションセンター | D8: 桐木 | F8: TEL | G8: 0800-222-6823
A9: 京 浜 地 区 ( 東 京 ） | C9: 〒801-0856 北九州市門司区浜町 10-16 3F | D9: 西村 | F9: FAX | G9: 093-280-2231
B10: [ｱﾒﾘｶ向] | C10: 三井倉庫株式会社 関東支社 関東第一支店 大井事務所 | D10: 佐藤 | E10: ●三井倉庫（株）大井 | F10: TEL | G10: 03-3790-9011
B11: C.F.S. | C11: 〒143-0001 東京都大田区東海4-3-8 | E11: ○1FWA7 | F11: FAX | G11: 03-3790-4131
B12: Booking | C12: 三井倉庫九州（株） 営業部 /オペレーションセンター | D12: 濱 | F12: TEL | G12: 0800-222-6823
A13: 中京地区 | C13: 〒801-0856 北九州市門司区浜町 10-16 3F | D13: 戸高・早瀬 | F13: FAX | G13: 093-280-2231
A14: （名古屋） | B14: [ｱﾒﾘｶ向・ﾖｰﾛｯﾊﾟ向] | C14: 三井倉庫（株）中部支社 名古屋支店 飛島事務所 | D14: 坂口 | E14: ●三井倉庫（株）名古屋港流通センター | F14: TEL | G14: 0567-55-2410
B15: C.F.S. | C15: 〒490-1446 愛知県海部郡飛島村東浜2-23-2 | E15: ○ 5EW69 | F15: FAX | G15: 0567-55-2411
A16: 関西地区 （神戸） | B16: Booking | C16: 三井倉庫九州（株） 営業部 /オペレーションセンター | D16: 濱 | F16: TEL | G16: 0800-222-6823
C17: 〒801-0856 北九州市門司区浜町 10-16 3F | D17: 戸高・早瀬 | F17: FAX | G17: 093-280-2231
B18: [アジア向け] | C18: 三井倉庫（株）関西支社 関西第１支店 ポートアイランド事務所 K-DIC倉庫 | D18: 伊澤 | E18: ● 三井倉庫(株) Ｋ－ＤＩＣ | F18: TEL | G18: 078-306-2635
B19: C.F.S. | C19: 〒650-0045 神戸市中央区港島8 神戸港国際流通センター内 | E19: ○ 3FW42 | F19: FAX | G19: 078-306-2636

Sheet Surcharge
A1: SURCHARGE ( EXPORT ) | H1: 2026/10
B4: USA | C4: BAF | F4: ERC(Emergency recovery charge) | I4: CAF | J4: PCS | K4: CDC(*) | L4: THC | M4: CFS | N4: Drayage Surcharge | O4: DC FEE（*）
C5: USWC, USWC(LOCAL*) | D5: US EC, VIA EC | E5: IPI / MLB | F5: USWC, USWC(LOCAL*) | G5: US EC, VIA EC | H5: IPI / MLB
B7: From | C7: 46296 | D7: 46296 | E7: 46296 | F7: 45489 | G7: 45489 | H7: 45489 | K7: 44835 | L7: 45823 | M7: 45458 | N7: 45823 | O7: 45823
B8: To | C8: 46326 | D8: 46326 | E8: 46326
B9: LCL | C9: 19 | D9: 27 | E9: 31 | F9: 80 | G9: 80 | H9: 80 | K9: 35 | L9: 2200 | M9: 5980 | N9: 1300 | O9: 3000
B10: REMARK | K10: * per B/L | O10: * per B/L 課税
C11: * LOCAL = CA州、OR州、WA州
B13: EUROPE | C13: LSS | D13: PSS | E13: THC | F13: CFS | G13: Drayage Surcharge | H13: DOC. FEE(*) | I13: ICS2 Filing Fee
B14: From | C14: 46296 | D14: 46296 | E14: 45383 | F14: 45474 | H14: 42262 | I14: 45748
B15: To | C15: 46326 | D15: 46326
B16: LCL | C16: 18 | D16: 95 | E16: at cost | F16: 5980 | G16: at cost | H16: at cost | I16: 35
B17: REMARK | H17: * per B/L 課税
B20: ASIA | C20: FAF | D20: YAS | E20: LSS | F20: PSS | G20: THC | H20: CFS | I20: Drayage Surcharge | J20: DOC. FEE(*) | K20: AFS(*)
B21: From | C21: 46296 | D21: 46296 | E21: 46296 | F21: 46296 | G21: 42917 | H21: 45474 | J21: 42262
B22: To | C22: 46326 | D22: 46326 | E22: 46326 | F22: 46326
B23: LCL | C23: 19 | D23: 0 | E23: Sheet「ASIA LSS」参照 | F23: Sheet「ASIA PSS」参照 | G23: 1500 | H23: 5980 | I23: 500 | J23: at cost | K23: at cost
B24: REMARK | J24: * per B/L 課税 | K24: 日本⇒中国全航路 * per B/L
B27: KOREA | C27: BAF | D27: CAF | E27: LSS | F27: PSS | G27: THC | H27: CFS | I27: Drayage Surcharge | J27: DOC. FEE(*)
B28: From | D28: 42005 | E28: 46296 | F28: 46296 | G28: 41730 | H28: 45474 | J28: 41470
B29: To | E29: 46326 | F29: 46326
B30: LCL | C30: TBA | D30: 0 | E30: Sheet「ASIA LSS」参照 | F30: Sheet「ASIA PSS」参照 | G30: 2300 | H30: 5980 | I30: 500 | J30: 2000
B31: REMARK | C31: ※現地（着地）払い | D31: ※現地（着地）払い | J31: * per B/L 課税
B32: ◎上記以外に料金が変動していた場合はご了承ください。

Sheet ASIA PSS
A1: PSS(Peak Season Surcharge) Asia向け
D3: =TODAY() -> 46290
A4: EFFECTIVE DATE | B4: 適用航路 | C4: 料率 | D4: 備考
C5: per RT
A6: 2020/1/1～ (ETD ベース） | B6: 東アジア（香港、香港経由華南含む） | C6: 15
B7: 東南アジア | C7: 20
B8: 西アジア、インド、中東 | C8: 25
B9: オセアニア | C9: 35
A10: 2021/9/1～ (ETD ベース） | B10: 東アジア（香港、香港経由華南含む） | C10: 30
B11: 東南アジア | C11: 30
B12: 西アジア、インド、中東 | C12: 40
B13: オセアニア | C13: 105
A14: 2021/10/1～ (ETD ベース） | B14: 東アジア（香港、香港経由華南含む） | C14: 30
B15: 東南アジア | C15: 30
B16: 西アジア、インド | C16: 115
B17: 中東 | C17: 190
B18: オセアニア | C18: 220
A19: 2022/1/1～ (ETD ベース） | B19: 韓国 | C19: 8
B20: 東アジア（香港、香港経由華南含む） | C20: 30
B21: 東南アジア | C21: 35
B22: 西アジア、インド | C22: 120
B23: 中東 | C23: 190
B24: オセアニア | C24: 220
A25: 2022/4/1～ (ETD ベース） | B25: 韓国 | C25: 8
B26: 東アジア（香港、香港経由華南含む） | C26: 30
B27: 東南アジア | C27: 40
B28: 西アジア、インド | C28: 230
B29: 中東 | C29: 240
B30: オセアニア | C30: 290
A31: 2022/10/1～ (ETD ベース） | B31: 韓国 | C31: 8
B32: 東アジア（香港、香港経由華南含む） | C32: 30
B33: 東南アジア | C33: 40
B34: 西アジア、インド | C34: 200
B35: 中東 | C35: 220
B36: オセアニア | C36: 290
A37: 2023/1/1～ (ETD ベース） | B37: 韓国 | C37: 8
B38: 東アジア（香港、香港経由華南含む） | C38: 30
B39: 東南アジア | C39: 30
B40: 西アジア、インド | C40: 150
B41: 中東 | C41: 150
B42: オセアニア | C42: 265
A43: 2023/3/1～ (ETD ベース） | B43: 韓国 | C43: 8
B44: 東アジア（香港、香港経由華南含む） | C44: 20
B45: 東南アジア | C45: 20
B46: 西アジア、インド | C46: 100
B47: 中東 | C47: 100
B48: オセアニア | C48: 130
A49: 2023/4/1～ (ETD ベース） | B49: 韓国 | C49: 0
B50: 東アジア（香港、香港経由華南含む） | C50: 5
B51: 東南アジア | C51: 10
B52: 西アジア、インド | C52: 70
B53: 中東 | C53: 70
B54: オセアニア | C54: 50
A55: 2023/5/1～ (ETD ベース） | B55: 韓国 | C55: 0
B56: 東アジア（香港、香港経由華南含む） | C56: 5
B57: 東南アジア | C57: 10
B58: 西アジア、インド | C58: 50
B59: 中東 | C59: 50
B60: オセアニア | C60: 50
A61: 2023/7/1～ (ETD ベース） | B61: 韓国 | C61: 0
B62: 東アジア（香港、香港経由華南含む） | C62: 5
B63: 東南アジア | C63: 8
B64: 西アジア、インド | C64: 50
B65: 中東 | C65: 50
B66: オセアニア | C66: 50
A67: 2023/8/1～ (ETD ベース） | B67: 韓国 | C67: 0
B68: 東アジア（香港、香港経由華南含む） | C68: 5
B69: 東南アジア | C69: 8
B70: 西アジア、インド | C70: 30
B71: 中東 | C71: 50
B72: オセアニア | C72: 30
A73: 2023/10/1～ (ETD ベース） | B73: 韓国 | C73: 0
B74: 東アジア（香港、香港経由華南含む） | C74: 5
B75: 東南アジア | C75: 5
B76: 西アジア、インド | C76: 20
B77: 中東 | C77: 20
B78: オセアニア | C78: 30
A79: 2023/11/1～ (ETD ベース） | B79: 韓国 | C79: 0
B80: 東アジア（香港、香港経由華南含む） | C80: 5
B81: 東南アジア | C81: 5
B82: 西アジア、インド | C82: 20
B83: 中東 | C83: 20
B84: オセアニア | C84: 20
A85: 2024/2/1～ (ETD ベース） | B85: 韓国 | C85: 0
B86: 東アジア（香港、香港経由華南含む） | C86: 5
B87: 東南アジア | C87: 5
B88: 西アジア、インド | C88: 50
B89: 中東 | C89: 50
B90: オセアニア | C90: 40
A91: 2024/5/1～ (ETD ベース） | B91: 韓国 | C91: 0
B92: 東アジア（香港、香港経由華南含む） | C92: 5
B93: 東南アジア | C93: 5
B94: 西アジア、インド | C94: 50
B95: 中東 | C95: 50
B96: オセアニア | C96: 30
A97: 2024/6/1～ (ETD ベース） | B97: 韓国 | C97: 0
B98: 東アジア（香港、香港経由華南含む） | C98: 5
B99: 東南アジア | C99: 5
B100: 西アジア、インド | C100: 20
B101: 中東 | C101: 20
...

Sheet ASIA LSS
A1: NEW LSS (LCL) Asia
D3: =TODAY() -> 46290
A4: EFFECTIVE DATE | B4: 適用航路 | C4: 料率 | D4: 備考
C5: per RT
A6: 2020/7/1 ETD～ | B6: 東アジア（香港、香港経由華南含む）、東南アジア向け | C6: 0
B7: インド、中近東、オセアニア | C7: 0
A8: 2021/9/1 ETD～ | B8: 東アジア（香港、香港経由華南含む）、東南アジア向け | C8: 3
B9: インド、中近東、オセアニア | C9: 5
A10: 2021/10/1 ETD～ | B10: 東アジア（香港、香港経由華南含む）、東南アジア向け | C10: 3
B11: インド、中近東、オセアニア | C11: 6
A12: 2022/1/1 ETD～ | B12: 東アジア（香港、香港経由華南含む）、東南アジア向け | C12: 5
B13: インド、中近東、オセアニア | C13: 9
A14: 2022/4/1 ETD～ | B14: 東アジア（香港、香港経由華南含む）、東南アジア向け | C14: 7
B15: インド、中近東、オセアニア | C15: 12
A16: 2022/7/1 ETD～ | B16: 東アジア（香港、香港経由華南含む）、東南アジア向け | C16: 11
B17: インド、中近東、オセアニア | C17: 22
A18: 2023/1/1 ETD～ | B18: 東アジア（香港、香港経由華南含む）、東南アジア向け | C18: 11
B19: インド、中近東、オセアニア | C19: 18
A20: 2023/4/1 ETD～ | B20: 東アジア（香港、香港経由華南含む）、東南アジア向け | C20: 11
B21: インド、中近東、オセアニア | C21: 14
A22: 2023/7/1 ETD～ | B22: 東アジア（香港、香港経由華南含む）、東南アジア向け | C22: 9.5
B23: インド、中近東、オセアニア | C23: 13
A24: 2023/10/1 ETD～ | B24: 東アジア（香港、香港経由華南含む）、東南アジア向け | C24: 8
B25: インド、中近東、オセアニア | C25: 13
A26: 2024/6/1 ETD～ | B26: 東アジア（香港、香港経由華南含む）、東南アジア向け | C26: 8
B27: インド、中近東、オセアニア | C27: 15
A28: 2024/7/1 ETD～ | B28: 東アジア（含む 香港、香港経由華南地区、華南地区（※厦門除く））、東南アジア向け | C28: 9
B29: インド、中近東、オセアニア | C29: 17
A30: 2025/3/1 ETD～ | B30: 東アジア（含む 香港、香港経由華南地区、華南地区（※厦門除く））、東南アジア向け | C30: 10
B31: インド、中近東、オセアニア | C31: 17
A32: 2025/7/1 ETD～ | B32: 東アジア（含む 香港、香港経由華南地区、華南地区（※厦門除く））、東南アジア向け | C32: 10
B33: インド、中近東、オセアニア | C33: 15
A37: 注意： | B37: 東アジア（含む 香港、香港経由華南地区、華南地区（※厦門除く））、東南アジア向けについて
B38: （*）韓国 /中国本土向けは除く

Sheet BOOKINGご依頼時のお願い
A1: BOOKING お申込み時の明細提供について
A3: 弊社NVOCCへBOOKINGお申し込みいただく際、必要情報の不足等により手配がスムーズに進まず、 BOOKINGの完了案内にお時間をいただいてしまうなどご迷惑をおかけするケースが散見されております。 スムーズな手配のため、以下の明細を添えてご依頼いただけますようご協力をお願い申し上げます。
A4: FCL のBooking
A5: ① | B5: Shipper 名
A6: ② | B6: Consignee 名（ノミネーション案件の場合）
A7: ③ | B7: 乙仲 自社（三井倉庫）or 他社 (*) 海上運賃のお支払い条件確認のため。 -- 原則、自社（三井倉庫）の場合、基本クレジット払い、 他社の場合はBL 発行時の都度払いとさせていただいております。
A8: ④ | B8: お支払い条件 FREIGHT PREPAID / COLLECT
A9: ⑤ | B9: 指定実船社（指定のある場合、見積もりを取得した船社）
A10: ⑥ | B10: 輸送（Booking）範囲 Place of receipt / Place of loading Place of discharge / Place of Delivery
A11: ⑦ | B11: 希望本船、スケジュール
B12: 具体的な品名 HS CODE
A13: ⑨ | B13: コンテナタイプ、および本数
A14: ⑩ | B14: 重量（Booking 時の概算） (注) ONE の欧州向けは Booking 時の重量と実重量の差が大きい場合、Penalty 発生の可能性がございます。
A15: ⑪ | B15: BL/DEBIT NOTE 送付先（Booking 依頼者と異なる場合）
A16: ⑫ | B16: 危険品の場合 ▪船社所定のフォームに危険品明細明記の上、ご提出ください。
A17: ⑬ | B17: 特殊コンテナの場合 ▪コンテナ毎の梱包個数、重量、サイズ情報（Void 有無） 空バンピック予定日（希望がある場合）
A18: ⑭ | B18: リーファーの場合 ▪設定温度、ベンチレーション開閉有無、プレクール有無空バンピック予定日（希望がある場合）
A19: ⑮ | B19: 特記事項 (必要時) 例）クリーンバンリクエスト/アンダーデックリクエスト etc.
A21: LCL のBooking
A22: ① | B22: Shipper 名
A23: ② | B23: Consignee 名（ノミネーション案件の場合）
A24: ③ | B24: 乙仲 自社（三井倉庫）or 他社 (*) 海上運賃のお支払い条件確認のため。 -- 原則、自社（三井倉庫）の場合、基本クレジット払い、 他社の場合はBL 発行時の都度払いとさせていただいております。
A25: ④ | B25: お支払い条件 FREIGHT PREPAID / COLLECT
A26: ⑤ | B26: 自社コンソリ or 指定 co-loader（指定のある場合、見積もりを取得 したco-loader）
A27: ⑥ | B27: 輸送（Booking）範囲 Place of receipt / Place of loading Place of discharge / Place of Delivery
A28: ⑦ | B28: 希望本船、スケジュール
B29: 具体的な品名 HS CODE
A30: ⑨ | B30: 個数（Booking 時の概算）
A31: ⑩ | B31: 荷姿
A32: ⑪ | B32: 重量（Booking 時の概算）
A33: ⑫ | B33: 容積（Booking 時の概算）
A34: ⑬ | B34: BL/DEBIT NOTE 送付先（Booking 依頼者と異なる場合）
A35: ⑭ | B35: 危険品の場合 ▪co-loader 所定のフォームに危険品明細明記の上、ご提出ください。
A36: ⑮ | B36: 国内消防法該当品（該当の場合）
A37: ⑯ | B37: Free pick 手配有無 （手配有の場合）
A38: ⑰ | B38: 特記事項 (必要時) 例）段積み不可希望 etc. 段積み不可、長尺、背高貨物の場合、貨物のディメンションをご連絡 ください。
A40: （※）危険品の船積は積載承認に時間を要しますことご了承ください。

Sheet SI作成に関するお願い
A1: S/I (SHIPPING INSTRUCTION)作成に関するお願い
A3: 弊社NVOCCご利用時、CTBL作成用に差し入れをいただくSHIPPING INSTRUCTIONにつきまして、外地税関の規則、通達による必要項目等、記載されていないケースが散見されております。外地でのデーター不備におけるトラブルや、罰則回避、スムーズな貨物引渡しのため、SHIPPING INSTRUCTION作成の際には記載漏れのないよう、ご注意をお願い致します。
A4: また、揚げ地側で荷受人様、到着通知人様に連絡がスムーズに取れるよう、連絡先の明記をいただけますようあわせてご協力お願い致します。
A5: 尚、運賃のお支払い方法(Prepaid /Collect)、運賃表記要否(表記しない場合はFreight As Arranged)、BL種別（Original / Surrender / Waybill）、BL発行地等、BL発行が滞りなく行えるよう基本情報のご記載も漏れなくお願い申し上げます。
B7: 向け地 | C7: 記載(要注意)内容
B8: 共通 | C8: Consignee /Notify の連絡先（担当者様、TEL#、Email など）
B10: 向け地 | C10: 記載(要注意)内容
A11: ① | B11: 韓国 | C11: 具体的な品名の明記
A12: ② | B12: 香港(T/S貨む) | C12: 具体的な品名の明記
A13: ③ | B13: インドネシア | C13: 具体的な品名の明記 SHIPPER/CONSIGNEE/NOTIFY の正式な名称、住所の記載 CONSIGNEE のTAX ID (16 桁) HS CODE (6 桁)の明記
A14: ④ | B14: フィリピン | C14: SHIPPER の正式な名称、住所の記載 CONSIGNEE の正式な名称、住所の記載 HS CODE (6 桁)の明記
A15: ⑤ | B15: マレーシア (T/S 貨含む) | C15: SHIPPER/CONSIGNEE/NOTIFY の正式な名称、住所の記載 HS CODE (6 桁)の明記
A16: ⑥ | B16: タイ | C16: 荷姿がPACKAGE の場合は内個数の明記/全貨物CASE MARK 情報
A17: Ⓒ | B17: 台湾 | C17: 荷姿がPACKAGE/PALLET/BUNDLE/SKID の場合は内個数の明記 CONSIGNEE/NOTIFY の正式な名称、住所の記載
A18: ⑧ | B18: インド | C18: SHIPPER/CONSIGNEE/NOTIFY の正式な名称、住所の記載 IEC(Import Export Code)の明記 *IEC-インドにおける輸出入者管理コード（数字 10 桁） CONSIGNEE のGST IDENTIFICATION NO. (GSTIN) 輸入者の公式 E-MAIL アドレス (船社、税関とのやり取りに使用しているもの) * CONSIGNEE のPAN(Permanent Account Number) 輸入者及びNOFITY の基本税務番号(恒久税務番号)、納税者番号 （数字 10 桁） HS CODE (6 桁)の明記
A19: ⑨ | B19: メキシコ | C19: CONSIGNEE の電話番号と TAX ID、HS CODE の明記
A20: ⑩ | B20: ブラジル | C20: CONSIGNEE の正式名称と電話番号、及び CNPJ CODE(納税者番 号)の明記
A21: ⑪ | B21: 北米 | C21: SHIPPER/CONSIGNEE/NOTIFY の正式な名称、住所の記載具体的な品名の明記 荷姿がPALLET/BUNDLE /SKID の場合は内個数の明記 HS CODE (6 桁)の明記
A22: ⑫ | B22: 欧州 EU27加盟国、北アイルランド、ノルウェー、スイス向け | C22: SHIPPERのフルネーム+完全な住所(国、都市、郵便番号)、 電話番号・メールアドレス CONSIGNEEのフルネーム、EORI番号、完全な住所(国、都市、郵便番号)、電話番号・メールアドレス 具体的な品目の明記 HS CODE (6桁)の明記 無害化学品及び危険物化学品問わず、CUS CODE **シッパー/コンサイニーが実際の売主/買主と相違する場合** ・実際の売主情報：売主名+完全な住所(国、都市、郵便番号)、 電話番号・メールアドレス ・実際の買主情報：EORI番号、買主名+完全な住所(国、都市、郵便番号)、電話番号・メールアドレス
... A27: ⑰ | B27: シンガポール | C27: SHIPPER/CONSIGNEE/NOTIFY の住所、TEL、Email の記載 HS CODE (6 桁)の明記

Sheet 北米向けAMS貨物個数に関するご案内
A1: 北米向けAMS 貨物個数に関するご案内
A3: 北米向けB/L 面上における個数表記及び米国税関への送信個数は下記の通りです。 正しい貨物個数を米国税関へ送付するため、ドックレシート、ACL データー作成の際は十分ご注意いただけますようお願い申し上げます。
A4: 記
A5: ・AMS データーは本船船積 24 時間前までに米国税関へ送信が必須となります。
A6: ・税関へ送信する総個数はドックレシートに記載された総個数、荷姿が Pallet/Skid/Bundleの場合は それらの内個数（最小外装梱包数）を申告致します。 Pallet/Skid/Bundle の梱包形態は米国税関では認められておりません。
A7: ・コンテナが複数ある場合は、コンテナ毎の総個数（Pallet/Skid/Bundle が含まれる際はそ の内個数を合わせた総数）をCLP 欄にご記載ください。
A8: ・CARGO DESCRIPTION 欄の総個数は CLP 欄のコンテナ毎の総個数の合計になるよう 記載をお願い致します。
A9: （注） 書類提出期限後（米国税関への申告後）の内容訂正については、訂正費用が発生する場合がございます。（USD 50/BL） また数量記載不備等により現地通関や配送に遅延が生じ、追加費用等が発生する場合もご ざいますのでご留意ください。（船社デマレージ等の実費）
A10: 不明な点などございましたら、三井倉庫（株）NVO 推進課にお問い合わせいただきます様宜しくお願い申し上げます。
